BEGIN:VCALENDAR
VERSION:2.0
PRODID:-//ChamberMaster//Event Calendar 2.0//EN
METHOD:PUBLISH
X-PUBLISHED-TTL:P3D
REFRESH-INTERVAL:P3D
CALSCALE:GREGORIAN
BEGIN:VEVENT
DTSTART:20130710T123000Z
DTEND:20130710T230000Z
X-MICROSOFT-CDO-ALLDAYEVENT:FALSE
SUMMARY:2013 Golf Tournament
DESCRIPTION:If you are not signed up for the KCK Chamber's Annual Golf Tournament at Falcon Lakes Golf Course\, time is running out! Our hole sponsors have some awesome things planned\, with one sponsor awarding $5\,000 to the lucky person who makes a hole-in-one on Hole 15. Our door prize and swag bag donors have been very generous too. Call or email Bridget Koan\, bridget@kckchamber.com\, 913-748-2303 for the opportunities still available. Golfers will receive our signature 2013 KCK Chamber golf shirt\, door prizes\, swag bag\, food\, beverages\, networking and fun! If you are not able to golf\, you can still participate by donating a door prize.
X-ALT-DESC;FMTTYPE=text/html:<p>\n	<span style="font-size: 12pt"><span style="color: black"><span style="font-family: times new roman\, serif"><span style="font-family: times new roman">If you are not signed up for the KCK Chamber&rsquo\;s Annual Golf Tournament at Falcon Lakes Golf Course\, time is running out! Our hole sponsors have some awesome things planned\, with one sponsor awarding $5\,000 to the lucky person who makes a hole-in-one on Hole 15. Our door prize and swag bag donors have been very generous too. Call or email Bridget Koan\, </span></span></span></span><a href="mailto:bridget@kckchamber.com"><a href="mailto:bridget@kckchamber.com"><span style="font-size: 12pt"><span style="font-family: times new roman\, serif"><span style="font-family: times new roman">bridget@kckchamber.com</span></span></span></a></a><span style="font-family: times new roman"><span style="font-size: 12pt"><span style="color: black"><span style="font-family: times new roman\, serif">\, 913-748-2303 for the opportunities still available. Golfers will receive our </span></span></span></span><span style="font-size: 12pt"><span style="font-family: times new roman\, serif">signature <span style="color: black">2013 KCK Chamber golf shirt\, door prizes\, swag bag\, food\, beverages\, networking and fun! If you are not able to golf\, you can still participate by donating a door prize.</span></span></span><br />\n	&nbsp\;</p>\n
LOCATION:Falcon Lakes Golf Club 4602 Clubhouse Dr. Basehor\, KS 66007
UID:e.1213.59
SEQUENCE:3
DTSTAMP:20260424T195534Z
URL:https://business.kckchamber.com/events/details/2013-golf-tournament-07-10-2013-59
END:VEVENT

END:VCALENDAR
