BEGIN:VCALENDAR
VERSION:2.0
PRODID:-//ChamberMaster//Event Calendar 2.0//EN
METHOD:PUBLISH
X-PUBLISHED-TTL:P3D
REFRESH-INTERVAL:P3D
CALSCALE:GREGORIAN
BEGIN:VEVENT
DTSTART:20130607T163500Z
DTEND:20130607T180000Z
X-MICROSOFT-CDO-ALLDAYEVENT:FALSE
SUMMARY:2013 Small Business Awards Luncheon
DESCRIPTION:Join the KCK Chamber of Commerce as we honor our 2013 Small Business and New Small Business of the Year award winners.
X-ALT-DESC;FMTTYPE=text/html:Join the KCK Chamber of Commerce as we honor our 2013 Small Business and New Small Business of the Year award winners.
LOCATION:Sporting Park 1600 Village West Parkway Kansas City\, KS Parking is available in the Southwest part of the Nebraska Furniture Mart parking lot. You will cross the street there to Sporting Park.
UID:e.1213.58
SEQUENCE:3
DTSTAMP:20260424T195656Z
URL:https://business.kckchamber.com/events/details/2013-small-business-awards-luncheon-06-07-2013-58
END:VEVENT

END:VCALENDAR
