BEGIN:VCALENDAR
VERSION:2.0
PRODID:-//ChamberMaster//Event Calendar 2.0//EN
METHOD:PUBLISH
X-PUBLISHED-TTL:P3D
REFRESH-INTERVAL:P3D
CALSCALE:GREGORIAN
BEGIN:VEVENT
DTSTART:20150708T123000Z
DTEND:20150708T230000Z
X-MICROSOFT-CDO-ALLDAYEVENT:FALSE
SUMMARY:2015 Golf Tournament
DESCRIPTION:Join us for our annual\n\nGolf Tournament!
X-ALT-DESC;FMTTYPE=text/html:<div style="text-align: center\;"><span style="font-size:36px\;"><span style="color:#424b04\;"><strong>Join us for our annual<br />\nGolf Tournament!</strong></span></span></div>\n
LOCATION:Dub's Dread Golf Club 12601 Hollingsworth Road Kansas City\, KS 66109
UID:e.1213.252
SEQUENCE:3
DTSTAMP:20260421T053732Z
URL:https://business.kckchamber.com/events/details/2015-golf-tournament-07-08-2015-252
END:VEVENT

END:VCALENDAR
