BEGIN:VCALENDAR
VERSION:2.0
PRODID:-//ChamberMaster//Event Calendar 2.0//EN
METHOD:PUBLISH
X-PUBLISHED-TTL:P3D
REFRESH-INTERVAL:P3D
CALSCALE:GREGORIAN
BEGIN:VEVENT
DTSTART:20151214T223000Z
DTEND:20151215T010000Z
X-MICROSOFT-CDO-ALLDAYEVENT:FALSE
SUMMARY:2015 KCK New Staff/Board Chair Reception
DESCRIPTION:KCK Chamber Staff Reception\n\n Join the KCK Chamber to welcome our new Executive Director\, Daniel Silva\, new Board Chair\, Valerie Mussett\, other new KCK Chamber staff members and to thank outgoing 2015 Board Chair Greg Cotton. This is a come and go event and is open to everyone. A short program will take place at 5:30pm to recognize the honorees. Join us to meet the new staff\, socialize and enjoy live music and complimentary appetizers and drinks.
X-ALT-DESC;FMTTYPE=text/html:<strong style="text-align: center\; line-height: 20.79px\; font-family: Arial\, Verdana\, sans-serif\; font-size: 13.33px\;"><span style="font-size: 18px\;">KCK Chamber Staff </span></strong><strong style="text-align: center\; line-height: 20.79px\; font-family: Arial\, Verdana\, sans-serif\; font-size: 13.33px\;"><span style="font-size: 18px\;">Reception<br />\n&#8203\;</span></strong><span style="text-align: justify\; line-height: 20.79px\; font-family: Arial\, Verdana\, sans-serif\; font-size: 14px\;">Join</span><span style="text-align: justify\; line-height: 20.79px\; font-family: Arial\, Verdana\, sans-serif\; font-size: 14px\;"> the KCK Chamber&nbsp\;to welcome our new Executive Director\, Daniel Silva\,&nbsp\;new Board Chair\, Valerie Mussett\,&nbsp\;other new KCK Chamber staff members and to thank outgoing 2015 Board Chair Greg Cotton.&nbsp\;This is a come and go event and is open to everyone.&nbsp\;A short program will&nbsp\;take place at 5:30pm to recognize the honorees. Join us to meet the new staff\, socialize&nbsp\;and enjoy&nbsp\;live music&nbsp\;and c</span><span style="text-align: justify\; line-height: 20.79px\; font-family: Arial\, Verdana\, sans-serif\; font-size: 14.44px\;">omplimentary</span><span style="text-align: justify\; line-height: 20.79px\; font-family: Arial\, Verdana\, sans-serif\; font-size: 14.44px\;"> appetizers and drinks. &nbsp\;</span>
LOCATION:KCK Chamber Office 727 Minnesota Ave Kansas City\, Kansas 66101
UID:e.1213.283
SEQUENCE:3
DTSTAMP:20260420T213550Z
URL:https://business.kckchamber.com/events/details/2015-kck-new-staff-board-chair-reception-12-14-2015-283
END:VEVENT

END:VCALENDAR
