BEGIN:VCALENDAR
VERSION:2.0
PRODID:-//ChamberMaster//Event Calendar 2.0//EN
METHOD:PUBLISH
X-PUBLISHED-TTL:P3D
REFRESH-INTERVAL:P3D
CALSCALE:GREGORIAN
BEGIN:VEVENT
DTSTART:20160203T140000Z
DTEND:20160203T150000Z
X-MICROSOFT-CDO-ALLDAYEVENT:FALSE
SUMMARY:2016 Ambassador Club - February
DESCRIPTION:Ambassador Club Monthly Meeting
X-ALT-DESC;FMTTYPE=text/html:Ambassador Club Monthly Meeting
LOCATION:KCK Chamber Office 727 Minnesota Avenue Kansas City\, KS 66101
UID:e.1213.299
SEQUENCE:3
DTSTAMP:20260420T182536Z
URL:https://business.kckchamber.com/events/details/2016-ambassador-club-february-02-03-2016-299
END:VEVENT

END:VCALENDAR
