BEGIN:VCALENDAR
VERSION:2.0
PRODID:-//ChamberMaster//Event Calendar 2.0//EN
METHOD:PUBLISH
X-PUBLISHED-TTL:P3D
REFRESH-INTERVAL:P3D
CALSCALE:GREGORIAN
BEGIN:VEVENT
DTSTART:20160811T124500Z
DTEND:20160811T140000Z
X-MICROSOFT-CDO-ALLDAYEVENT:FALSE
SUMMARY:2016 Breakfast with the Board - August
DESCRIPTION:Come meet our KCK Chamber Board members. Join us at the Chamber office for breakfast and conversation. This is your chance to interact with board members\, hear more about their agenda for the year and visit with them about your challenges and business concerns.  \n\n\n\nThis is a first register\, first reserved event for KCK Chamber members only. Please know that as a member\, you can only attend ONE Breakfast with the Board event per year. Thank you for your understanding\, as we want this event to be inclusive to as many of our members as possible.\n\n\n\nThank you to our partner TranSystems for sponsoring the Breakfast with the Board!
X-ALT-DESC;FMTTYPE=text/html:<span><span style="font-size: 12pt\;">Come meet our KCK Chamber Board members. Join us at the Chamber office for breakfast and conversation. This is your chance to interact with board members\, hear more about their agenda for the year and visit with them about your challenges and business concerns. &nbsp\;<br />\n<br />\nThis is a first register\, first reserved event for KCK Chamber members only. <strong>Please know that as a member\, you can only attend ONE Breakfast with the Board event per year. Thank you for your understanding\, as we want this event to be inclusive to as many of our members as possible.</strong><br />\n<br />\nThank you to our partner TranSystems for sponsoring the Breakfast with the Board!&nbsp\;</span></span>
LOCATION:KCK Chamber 727 Minnesota Avenue Kansas City\, KS 66101
UID:e.1213.309
SEQUENCE:3
DTSTAMP:20260420T101235Z
URL:https://business.kckchamber.com/events/details/2016-breakfast-with-the-board-august-08-11-2016-309
END:VEVENT

END:VCALENDAR
