BEGIN:VCALENDAR
VERSION:2.0
PRODID:-//ChamberMaster//Event Calendar 2.0//EN
METHOD:PUBLISH
X-PUBLISHED-TTL:P3D
REFRESH-INTERVAL:P3D
CALSCALE:GREGORIAN
BEGIN:VEVENT
DTSTART:20160211T140000Z
DTEND:20160211T150000Z
X-MICROSOFT-CDO-ALLDAYEVENT:FALSE
SUMMARY:2016 Breakfast with the Board - February
DESCRIPTION:Come meet our KCK Chamber Board members over breakfast. Join us at the Chamber office for breakfast and conversation. This is your chance to interact with board members\, hear more about their agenda for the year and visit with them about your challenges and business concerns.  This is a first register\, first reserved event for members only and your opportunity to get to know your Chamber Board of Directors and our new Executive Director\, Daniel Silva better.
X-ALT-DESC;FMTTYPE=text/html:<span><span style="font-size: 12pt\;">Come meet our KCK Chamber Board members over breakfast. Join us at the Chamber office for breakfast and conversation. This is your chance to interact with board members\, hear more about their agenda for the year and visit with them about your challenges and business concerns. &nbsp\;This is a first register\, first reserved event for members only and your opportunity to get to know your Chamber Board of Directors and our new Executive Director\, Daniel Silva better. &nbsp\;</span></span>
LOCATION:KCK Chamber Offices 727 Minnesota Avenue Kansas City\, KS 66101
UID:e.1213.297
SEQUENCE:3
DTSTAMP:20260420T182240Z
URL:https://business.kckchamber.com/events/details/2016-breakfast-with-the-board-february-02-11-2016-297
END:VEVENT

END:VCALENDAR
