BEGIN:VCALENDAR
VERSION:2.0
PRODID:-//ChamberMaster//Event Calendar 2.0//EN
METHOD:PUBLISH
X-PUBLISHED-TTL:P3D
REFRESH-INTERVAL:P3D
CALSCALE:GREGORIAN
BEGIN:VEVENT
DTSTART:20160427T213000Z
DTEND:20160427T233000Z
X-MICROSOFT-CDO-ALLDAYEVENT:FALSE
SUMMARY:2016 Business After Hours - April
DESCRIPTION:April 27 - BUSINESS AFTER HOURS\n\nGranite City | 4:30 PM - 6:30 PM \n\n\n\nJoin us for the April Business After Hours at Granite City-Legends Outlets Kansas City. Bring your business cards and make new contacts. The April Business After Hours is sponsored by the Greater Kansas City Building & Construction Trades Council and they will be hosting the event along with Granite City.\n\n\n\nSo join other Chamber members for complimentary food and drinks\, great connections and conversation. This event is free and open to members and guests. For more information\, please contact us at the KCK Chamber at 913-371-3070.
X-ALT-DESC;FMTTYPE=text/html:<strong style="line-height: 20.79px\; font-family: Arial\, Verdana\, sans-serif\; font-size: 13.33px\;"><span style="font-size: 20px\;">April 27 -&nbsp\;</span><span style="line-height: 20.79px\; font-size: 20px\;">BUSINESS AFTER HOURS</span></strong><br style="line-height: 20.79px\; font-family: Arial\, Verdana\, sans-serif\; font-size: 13.33px\;" />\n<span style="line-height: 20.79px\; font-family: Arial\, Verdana\, sans-serif\; font-size: 13.33px\;"><strong>Granite City<span style="font-size: 14px\;">&nbsp\;| 4:30 PM - 6:30 PM&nbsp\;</span></strong></span><br style="line-height: 20.79px\; font-family: Arial\, Verdana\, sans-serif\; font-size: 13.33px\;" />\n<br />\n<span style="line-height: 20.79px\; font-family: Arial\, Verdana\, sans-serif\; font-size: 13px\;">Join us for the April Business After Hours at Granite City-Legends Outlets Kansas City. Bring your business cards and make new contacts. The April Business After Hours is sponsored by the Greater Kansas City Building &amp\; Construction Trades Council and they will be hosting the event along with Granite City.<br />\n<br />\nSo join other Chamber members for&nbsp\;complimentary food and drinks\, great connections and conversation.&nbsp\;<span style="line-height: 20.79px\;">This event is free and open to members and guests. For more information\, please contact us at the KCK Chamber at 913-371-3070.</span></span>
LOCATION:Granite City-Legends Outlets Kansas City 1701 Village W Parkway\, Kansas City\, KS 66111
UID:e.1213.312
SEQUENCE:3
DTSTAMP:20260420T151754Z
URL:https://business.kckchamber.com/events/details/2016-business-after-hours-april-04-27-2016-312
END:VEVENT

END:VCALENDAR
