BEGIN:VCALENDAR
VERSION:2.0
PRODID:-//ChamberMaster//Event Calendar 2.0//EN
METHOD:PUBLISH
X-PUBLISHED-TTL:P3D
REFRESH-INTERVAL:P3D
CALSCALE:GREGORIAN
BEGIN:VEVENT
DTSTART:20160128T223000Z
DTEND:20160129T010000Z
X-MICROSOFT-CDO-ALLDAYEVENT:FALSE
SUMMARY:2016 Business After Hours - January
DESCRIPTION:JAN 28 - BUSINESS AFTER HOURS\n\nGreat Wolf Lodge | 4:30 PM - 7:00 PM \n\nJoin us for Business After Hours at Great Wolf Lodge. Bring your business cards and make new contacts. Great Wolf Lodge will be giving tours\, telling you more about their meeting and event  spaces & opportunities and providing complimentary food and drinks\, so join us for the fun. This event is free.  For more info\, contact Renee at 913.748.2303 or Renee@KCKChamber.com.
X-ALT-DESC;FMTTYPE=text/html:<strong style="line-height: 20.79px\; font-family: Arial\, Verdana\, sans-serif\; font-size: 13.33px\;"><span style="font-size: 20px\;">JAN 28 -&nbsp\;</span><span style="line-height: 20.79px\; font-size: 20px\;">BUSINESS AFTER HOURS</span></strong><br style="line-height: 20.79px\; font-family: Arial\, Verdana\, sans-serif\; font-size: 13.33px\;" />\n<span style="line-height: 20.79px\; font-family: Arial\, Verdana\, sans-serif\; font-size: 13.33px\;"><strong>Great Wolf Lodge<span style="font-size: 14px\;">&nbsp\;| 4:30 PM - 7:00 PM&nbsp\;</span></strong></span><br style="line-height: 20.79px\; font-family: Arial\, Verdana\, sans-serif\; font-size: 13.33px\;" />\n<span style="line-height: 20.79px\; font-family: Arial\, Verdana\, sans-serif\; font-size: 13px\;">Join us for Business After Hours at Great Wolf Lodge. Bring your business cards and make new contacts. Great Wolf Lodge will be giving tours\, telling you more about their meeting and event &nbsp\;spaces &amp\; opportunities and providing complimentary food and drinks\, so join us for the fun.&nbsp\;<span style="line-height: 20.79px\;">This event is free. &nbsp\;For more info\, contact Renee at 913.748.2303 or Renee@KCKChamber.com.</span>&nbsp\;</span>
LOCATION:Great Wolf Lodge 10401 Cabela Dr\, Kansas City\, KS 66111
UID:e.1213.291
SEQUENCE:3
DTSTAMP:20260420T213544Z
URL:https://business.kckchamber.com/events/details/2016-business-after-hours-january-01-28-2016-291
END:VEVENT

END:VCALENDAR
