BEGIN:VCALENDAR
VERSION:2.0
PRODID:-//ChamberMaster//Event Calendar 2.0//EN
METHOD:PUBLISH
X-PUBLISHED-TTL:P3D
REFRESH-INTERVAL:P3D
CALSCALE:GREGORIAN
BEGIN:VEVENT
DTSTART:20160915T223000Z
DTEND:20160916T003000Z
X-MICROSOFT-CDO-ALLDAYEVENT:FALSE
SUMMARY:2016 Business After Hours - September
DESCRIPTION:September 15 - BUSINESS AFTER HOURS\n\nThe KCK Young Pros Premier Event!\n\nStockyard Brewing Co. | 5:30 PM - 7:30 PM \n\n\n\nThis is the premier KCK Chamber Young Professionals event featuring taco and bbq food trucks\, beer tastings\, happy hour drink specials\, give-aways and more! Join us for the September Business After Hours at the new Stockyards Brewing Co. (formally Golden Ox) in the West Bottoms! Stick around for Thirty Three and a Third Thursday and witness local DJ's spin vinyl records of all genres. \n\n\n\nWhy the Stockyards you ask? Not only is the West Bottoms a short five minute commute from KCK downtown\, but the two cities have strong historical ties promoting economic collaboration and prosperity on both sides of the state line. And we think that's pretty cool! \n\n\n\nEarly developers of what is now known as the city's "Stockyard District" realized they could optimize business by conducting different types of commercial trade and commerce on both sides of the state. This ongoing collaboration eventually led to the development of State Line Road\, which is still a driving force for economic vibrancy for both Kansas and Missouri.\n\n\n\nBring your business cards and make new contacts with local young professionals throughout the KC Metro! And please invite your friends! \n\n\n\nThis event is free and open to members and guests. For more information\, please contact us at the KCK Chamber at 913-371-3070.\n\n\n\nThe KCK   West Bottoms Connection\n\n"Historically Tied\, Strategically Located\, Economically Prosperous
X-ALT-DESC;FMTTYPE=text/html:<br />\n<strong><span style="font-family:arial\,sans-serif\;"><span style="font-size:15pt\;">September 15 -&nbsp\;BUSINESS AFTER HOURS<br />\nThe KCK Young Pros Premier Event!</span></span></strong><br />\n<span style="font-family:arial\,sans-serif\;"><span style="font-size:10pt\;"><strong><span style="font-family:arial\,sans-serif\;">Stockyard Brewing Co.</span></strong></span></span><strong><span style="font-family:arial\,sans-serif\;"><span style="font-size:10.5pt\;">&nbsp\;| 5:30 PM - 7:30 PM&nbsp\;</span></span></strong><br />\n<br />\n<span style="font-family:arial\,sans-serif\;"><span style="font-size:10pt\;"><strong><span style="font-family:arial\,sans-serif\;">This is the premier KCK Chamber Young Professionals event featuring taco and bbq food trucks\, beer tastings\, happy hour drink specials\,</span></strong>&nbsp\;<strong>give-aways</strong></span>&nbsp\;<strong><span style="font-family:arial\,sans-serif\;">and more!&nbsp\;</span></strong>Join us for the September Business After Hours at the new Stockyards Brewing Co. (formally Golden Ox) in the West Bottoms!&nbsp\;Stick around for Thirty Three and a Third Thursday and witness local DJ&#39\;s spin vinyl records of all genres.&nbsp\;<br />\n<br />\n<strong>Why the Stockyards you ask?</strong> Not only is the West Bottoms a short five minute commute from KCK&nbsp\;downtown\, but the two cities have strong historical ties promoting economic collaboration and prosperity on both sides of the state line. And we think that&#39\;s pretty cool!&nbsp\;<br />\n<br />\nEarly developers of what is now known as the city&#39\;s &quot\;Stockyard District&quot\; realized they could optimize business by conducting different types of commercial trade and commerce on both sides of the state. This ongoing collaboration eventually led to the development of State Line Road\, which is still a driving force for economic vibrancy for both Kansas and Missouri.<br />\n<br />\nBring your business cards and make new contacts with local young professionals throughout the KC Metro! <strong>And please invite your friends!</strong>&nbsp\;<br />\n<br />\n<strong>This event is free and open to members and guests. For more information\, please contact us at the KCK Chamber at 913-371-3070.</strong></span><br />\n<br />\n<span style="font-size:14px\;"><strong style="line-height: 20.8px\;"><span style="font-family: arial\, sans-serif\;">The KCK &ndash\; West Bottoms Connection</span></strong></span><br style="line-height: 20.8px\;" />\n<span style="font-size:12px\;"><strong style="line-height: 20.8px\;"><em><span style="font-family: arial\, sans-serif\;">&ldquo\;Historically Tied\, Strategically Located\, Economically Prosperous</span></em></strong></span>
LOCATION:Stockyards Brewing Co. 1600 Genessee Street #100 Kansas City\, MO 64102
UID:e.1213.353
SEQUENCE:3
DTSTAMP:20260420T073017Z
URL:https://business.kckchamber.com/events/details/2016-business-after-hours-september-09-15-2016-353
END:VEVENT

END:VCALENDAR
