BEGIN:VCALENDAR
VERSION:2.0
PRODID:-//ChamberMaster//Event Calendar 2.0//EN
METHOD:PUBLISH
X-PUBLISHED-TTL:P3D
REFRESH-INTERVAL:P3D
CALSCALE:GREGORIAN
BEGIN:VEVENT
DTSTART:20160415T163000Z
DTEND:20160415T180000Z
X-MICROSOFT-CDO-ALLDAYEVENT:FALSE
SUMMARY:2016 Congressional Forum - April
DESCRIPTION:Featured Speaker:\n\nMartin Hawver\, Editor & Publisher of Hawver's Capitol Report\, and unofficial Dean of Statehouse Press Corps\n\n\n\nCongressional Forum is sponsored and administered by the KCK Chamber. The Forum is run by the Congressional Forum Board and meets the third Friday of every month.  Networking begins at 11:30\, lunch will be served at 11:45 and the program will begin promptly at 12 noon.\n\n\n\nCongressional Forum celebrates its 48th year in service to the business community in Kansas City\, KS. We are proud to be one of the few chambers with this program and the longest running Congressional Forum in United States \n\n \n\nLuncheon Choices:\n\nSteak or Salmon. A Vegetarian meal option is also available upon request. (Chef Salad is no longer a menu choice offered by the Reardon Center). \n\nIn order to assist us with meal options\, once you have made your meal selection we ask that you maintain your original meal selection\, so every guest will receive what they requested. Thank you.
X-ALT-DESC;FMTTYPE=text/html:<span style="font-size:14px\;"><span style="font-family:arial\;">Featured Speaker:<br />\nMartin Hawver\, Editor &amp\; Publisher of Hawver&#39\;s Capitol Report\,&nbsp\;and unofficial Dean of Statehouse Press Corps<br />\n<br />\n<strong style="border: 0px\; margin: 0px\; outline: 0px\; padding: 0px\; color: rgb(58\, 58\, 58)\; font-family: 'Open Sans'\, sans-serif\; font-size: 15px\; line-height: 22.5px\;"><span style="border: 0px\; margin: 0px\; outline: 0px\; padding: 0px\;">Congressional&nbsp\;Forum</span></strong><span style="line-height: 22.5px\;">&nbsp\;is sponsored and administered by the&nbsp\;</span><strong style="border: 0px\; margin: 0px\; outline: 0px\; padding: 0px\; color: rgb(58\, 58\, 58)\; font-family: 'Open Sans'\, sans-serif\; font-size: 15px\; line-height: 22.5px\;"><span style="border: 0px\; margin: 0px\; outline: 0px\; padding: 0px\;">KCK Chamber</span></strong><span style="line-height: 22.5px\;">. The Forum is run by the Congressional Forum Board and meets the third Friday of every month. &nbsp\;Networking begins at 11:30\, lunch will be served at 11:45 and the program will begin promptly at 12 noon.</span></span></span><br />\n<br />\n<span style="font-size: 14px\; line-height: 22.3999996185303px\; font-family: arial\, sans-serif\;">Congressional Forum celebrates its&nbsp\;48th&nbsp\;year in service to the business community in Kansas City\, KS. We are proud to be one of the few chambers with this program and the longest running Congressional Forum in United States&nbsp\;</span><br style="font-size: 14px\; line-height: 22.3999996185303px\;" />\n<span style="font-size: 14px\; line-height: 22.3999996185303px\;">&nbsp\;</span><br />\n<span style="font-size:14px\;"><span style="font-family:arial\;"><strong>Luncheon Choices:</strong><br style="line-height: 20.79px\;" />\n<span style="line-height: 20.79px\;">Steak or Salmon. A Vegetarian meal option is also available upon&nbsp\;request. (Chef Salad is no longer a menu&nbsp\;choice offered by the&nbsp\;</span>Reardon<span style="line-height: 20.79px\;">&nbsp\;Center).&nbsp\;</span><br />\n<span style="font-size:12px\;"><span style="line-height: 20.79px\;">In order to assist us with meal options\,</span><b style="line-height: 20.79px\;">&nbsp\;</b><span style="line-height: 20.79px\;">once you have made your meal selection we ask that&nbsp\;</span><b style="line-height: 20.79px\;"><u>you maintain your original meal&nbsp\;selection</u>\,</b><span style="line-height: 20.79px\;">&nbsp\;so every guest will&nbsp\;</span><span style="line-height: 20.79px\;">receive what they requested. Thank you.</span></span></span></span>
LOCATION:Reardon Convention Center 520 Minnesota Avenue Kansas City\, KS 66101
UID:e.1213.295
SEQUENCE:3
DTSTAMP:20260420T151703Z
URL:https://business.kckchamber.com/events/details/2016-congressional-forum-april-04-15-2016-295
END:VEVENT

END:VCALENDAR
