BEGIN:VCALENDAR
VERSION:2.0
PRODID:-//ChamberMaster//Event Calendar 2.0//EN
METHOD:PUBLISH
X-PUBLISHED-TTL:P3D
REFRESH-INTERVAL:P3D
CALSCALE:GREGORIAN
BEGIN:VEVENT
DTSTART:20160819T163000Z
DTEND:20160819T170000Z
X-MICROSOFT-CDO-ALLDAYEVENT:FALSE
SUMMARY:2016 Congressional Forum - August
DESCRIPTION:Featured Speaker:\n\nJerry Moran\n\nKansas Senator\n\nAfter serving seven terms in the United States House of Representatives\, Kansans elected Jerry Moran to the United States Senate in 2010. Senator Moran is committed to protecting and preserving the special way of life in Kansas.\n\n\n\nHe is a leading advocate on Capitol Hill for entrepreneurs\, job creation\, technology and medical research\, and is committed to putting policies in place that foster a pro-growth environment where businesses can succeed without government imposed barriers.\n\n\n\nBefore his election to public office\, Jerry Moran attended Fort Hays State University and later the University of Kansas\, where he completed a degree in economics. After an early career as a small town banker\, he received his J.D. from the University of Kansas School of Law. Jerry and his wife Robba continue to live in Kansas.\n\n\n\nLuncheon Choices:\n\nSteak\, Salmon or Vegetarian. Please maintain your original meal selection day of event.
X-ALT-DESC;FMTTYPE=text/html:<p align="CENTER" dir="LTR"><span style="font-size:14px\;"><span style="font-family:tahoma\;"><strong><span lucida="" sans="" style="line-height: 18px\;">Featured Speaker:<br />\nJerry Moran<br />\nKansas Senator</span></strong></span></span></p>\n\n<p style="box-sizing: border-box\; margin: 0px 0px 20px\; padding: 0px\; line-height: 20px\; color: rgb(87\, 87\, 87)\; font-family: Raleway\, sans-serif\; font-size: 16px\;"><span style="font-size:14px\;"><span style="font-family:tahoma\;">After serving seven terms in the United States House of Representatives\, Kansans elected Jerry Moran to the United States Senate in 2010. Senator Moran is committed to protecting and preserving the special way of life in Kansas.<br />\n<br />\nHe is a leading advocate on Capitol Hill for entrepreneurs\, job creation\, technology and medical research\, and is committed to putting policies in place that foster a pro-growth environment where businesses can succeed without government imposed barriers.<br />\n<br />\nBefore his election to public office\, Jerry Moran attended Fort Hays State University and later the University of Kansas\, where he completed a degree in economics. After an early career as a small town banker\, he received his J.D. from the University of Kansas School of Law. Jerry and his wife Robba continue to live in Kansas.<br />\n<br />\n<strong>Luncheon Choices:</strong><br />\nSteak\, Salmon or Vegetarian. Please maintain your original meal selection day of event.&nbsp\;</span></span></p>\n
LOCATION:Reardon Convention Center 520 Minnesota Avenue Kansas City\, KS 66101
UID:e.1213.352
SEQUENCE:3
DTSTAMP:20260422T085436Z
URL:https://business.kckchamber.com/events/details/2016-congressional-forum-august-08-19-2016-352
END:VEVENT

END:VCALENDAR
