BEGIN:VCALENDAR
VERSION:2.0
PRODID:-//ChamberMaster//Event Calendar 2.0//EN
METHOD:PUBLISH
X-PUBLISHED-TTL:P3D
REFRESH-INTERVAL:P3D
CALSCALE:GREGORIAN
BEGIN:VEVENT
DTSTART:20160115T173000Z
DTEND:20160115T190000Z
X-MICROSOFT-CDO-ALLDAYEVENT:FALSE
SUMMARY:2016 Congressional Forum - January
DESCRIPTION:Featured Presentation:\n\nKen Selzer\, CPA\, was elected as the Kansas Insurance Commissioner in 2014 and began serving in that position on January 12\, 2015. He previously worked in the reinsurance industry for more than 30 years\, most recently as an Executive Managing Director for a worldwide brokerage and insurance services firm.\n\n\n\nIn addition to his credentials as a Certified Public Accountant\, Ken has earned a number of professional designations\, including Chartered Property and Casualty Underwriter (CPCU)\, Associate in Reinsurance (ARE)\, and Fellow of the Life Management Institute (FLMI).\n\n\n\nKen is active in many professional\, community\, and charitable organizations. He has served as President of the Rotary Club of Leawood\, Chairman of the Kansas Society of CPAs Educational Foundation\, and President of the Cystic Fibrosis Foundation Heart of America Chapter.\n\n\n\nLuncheon Choices:\n\nSteak or Salmon. A Vegetarian meal option is also available.  Chef Salad is no longer a menu choice offered by the Reardon Center. \n\n\n\nCongressional Forum is sponsored and administered by the KCK Chamber of Commerce. It is a separate event from other Chamber programs and has an additional fee for membership. For information about Congressional Forum\, please contact Daniel Silva at daniel@kckchamber.com or William Epperheimer at billepper@gmail.com.
X-ALT-DESC;FMTTYPE=text/html:<strong><span style="font-family: arial\,sans-serif\;"><span style="font-size: 10.5pt\;">Featured Presentation:</span></span></strong><br />\n<span style="color: black\;"><span style="font-family: arial\,sans-serif\;"><span style="font-size: 10.5pt\;">Ken&nbsp\;Selzer\, CPA\, was elected as the Kansas Insurance Commissioner in 2014 and began serving in that position on January 12\, 2015. He previously worked in the reinsurance industry for more than 30 years\, most recently as an Executive Managing Director for a worldwide brokerage and insurance services firm.</span></span></span><br />\n<br />\n<span style="color: black\;"><span style="font-family: arial\,sans-serif\;"><span style="font-size: 10.5pt\;">In addition to his credentials as a Certified Public Accountant\, Ken has earned a number of professional designations\, including Chartered Property and Casualty Underwriter (CPCU)\, Associate in Reinsurance (ARE)\, and Fellow of the Life Management Institute (FLMI).</span></span></span><br />\n<br />\n<span style="color: black\;"><span style="font-family: arial\,sans-serif\;"><span style="font-size: 10.5pt\;">Ken is active in many professional\, community\, and charitable organizations. He has served as President of the Rotary Club of&nbsp\;Leawood\, Chairman of the Kansas Society of CPAs Educational Foundation\, and President of the Cystic Fibrosis Foundation Heart of America Chapter.</span></span></span><br />\n<br />\n<strong><span style="font-family: arial\,sans-serif\;"><span style="font-size: 10.5pt\;">Luncheon Choices:</span></span></strong><br />\n<span style="font-family: arial\,sans-serif\;"><span style="font-size: 9.5pt\;"><span>Steak or Salmon. A Vegetarian meal option is also available. &nbsp\;Chef Salad is no longer a menu&nbsp\;choice offered by the&nbsp\;</span>Reardon<span>&nbsp\;Center.&nbsp\;</span></span></span><br />\n<br />\n<span style="line-height: 18.9px\; font-family: arial\, sans-serif\; font-size: 12.72px\;"><span style="font-size: 9pt\;">Congressional&nbsp\;Forum is sponsored and administered by the KCK Chamber of Commerce. It is a separate event from other Chamber programs and has an additional fee for membership. For information about Congressional Forum\, please contact Daniel Silva at&nbsp\;daniel@kckchamber.com or William Epperheimer at billepper@gmail.com.</span></span><br />\n&nbsp\;
LOCATION:Reardon Convention Center 520 Minnesota Avenue Kansas City\, KS 66101
UID:e.1213.290
SEQUENCE:3
DTSTAMP:20260420T200020Z
URL:https://business.kckchamber.com/events/details/2016-congressional-forum-january-01-15-2016-290
END:VEVENT

END:VCALENDAR
