BEGIN:VCALENDAR
VERSION:2.0
PRODID:-//ChamberMaster//Event Calendar 2.0//EN
METHOD:PUBLISH
X-PUBLISHED-TTL:P3D
REFRESH-INTERVAL:P3D
CALSCALE:GREGORIAN
BEGIN:VEVENT
DTSTART:20161201T173000Z
DTEND:20161201T190000Z
X-MICROSOFT-CDO-ALLDAYEVENT:FALSE
SUMMARY:2016 December Symposium - 2017 Economic Outlook
DESCRIPTION:In lieu of First Friday Focus in December\, we are hosting a December Symposium presented by Kansas City Board of Public Utilities at the Federal Reserve Bank of KC with guest speaker Jason Brown\, senior economist and regional executive. The topic is Kansas and the Federal Reserve's Tenth District Economic Outlook for 2017. \n\n\n\nDEADLINE to register is Tuesday\, Nov. 22 by 3 p.m.\n\n\n\nSpeaker: Jason Brown\, senior economist and regional executive for the Federal Reserve Bank of Kansas City\n\n\n\nTopic: Kansas and the Federal Reserve's Tenth District Economic Outlook\n\n\n\nSpeaker Bio: Mr. Brown conducts research on issues related to regional economic growth\, emerging industries\, and structural change in regional industry and labor markets.  Prior to joining the Federal Reserve Bank of Kansas City\, Brown was an economist at the USDA Economic Research Service in Washington\, D.C. He holds a Ph.D. from Purdue University in Agricultural Economics\, M.S. Agricultural Economics\, Purdue University\, B.S. Agricultural Systems Management\, Purdue University.\n\n\n\nRecent Speeches:\n\nKansas and Tenth District Economic Outlook\; Rural Wealth Creation and Emerging Energy Industries U.S. & District Economic Outlook
X-ALT-DESC;FMTTYPE=text/html:<p style="border: 0px\; margin: 0px 0px 1.5em\; outline: 0px\; padding: 0px\; color: rgb(58\, 58\, 58)\; font-family: 'Open Sans'\, sans-serif\; font-size: 15px\; line-height: 22.5px\;"><span style="color: rgb(75\, 79\, 86)\; font-family: Helvetica\, Arial\, sans-serif\; font-size: 14px\;">In lieu of First Friday Focus in December\, we are hosting a December Symposium presented by Kansas City Board of Public Utilities&nbsp\;at the Federal Reserve Bank of KC with guest speaker Jason Brown\, senior economist and regional executive. The topic is Kansas and the Federal Reserve&#39\;s Tenth District Economic Outlook for 2017.&nbsp\;</span><br style="color: rgb(75\, 79\, 86)\; font-family: Helvetica\, Arial\, sans-serif\; font-size: 14px\;" />\n<br style="color: rgb(75\, 79\, 86)\; font-family: Helvetica\, Arial\, sans-serif\; font-size: 14px\;" />\n<span style="color: rgb(75\, 79\, 86)\; font-family: Helvetica\, Arial\, sans-serif\; font-size: 14px\;">DEADLINE to register is Tuesday\, Nov. 22 by 3 p.m.</span><br />\n<br />\nSpeaker: Jason Brown\, senior economist and regional executive for the Federal Reserve Bank of Kansas City<br />\n<br />\nTopic: Kansas and the Federal Reserve&#39\;s Tenth District Economic Outlook<br />\n<br />\nSpeaker Bio: Mr. Brown conducts research on issues related to regional economic growth\, emerging industries\, and structural change in regional industry and labor markets. &nbsp\;Prior to joining the Federal Reserve Bank of Kansas City\, Brown was an economist at the USDA Economic Research Service in Washington\, D.C. He holds a Ph.D. from Purdue University in Agricultural Economics\, M.S. Agricultural Economics\, Purdue University\, B.S. Agricultural Systems Management\, Purdue University.<br />\n<br />\nRecent Speeches:<br />\nKansas and Tenth District Economic Outlook\; Rural Wealth Creation and Emerging Energy Industries U.S. &amp\; District Economic Outlook&nbsp\;</p>\n
LOCATION:Federal Reserve Bank of Kansas City 1 Memorial Drive Kansas City\, MO 64198
UID:e.1213.315
SEQUENCE:3
DTSTAMP:20260420T021043Z
URL:https://business.kckchamber.com/events/details/2016-december-symposium-2017-economic-outlook-315
END:VEVENT

END:VCALENDAR
