BEGIN:VCALENDAR
VERSION:2.0
PRODID:-//ChamberMaster//Event Calendar 2.0//EN
METHOD:PUBLISH
X-PUBLISHED-TTL:P3D
REFRESH-INTERVAL:P3D
CALSCALE:GREGORIAN
BEGIN:VEVENT
DTSTART:20161114T133000Z
DTEND:20161114T150000Z
X-MICROSOFT-CDO-ALLDAYEVENT:FALSE
SUMMARY:2016 Global Entrepreneurship Week Coffee Kick-Off
DESCRIPTION:Be a part of the biggest celebration of innovation\, inspiration and entrepreneurship around. During GEW Kansas City\, you'll find tons fo events that engage and connect entrepreneurs across the Kansas City community. Network with other entrepreneurs\, brainstorm new ideas and hear from top though leaders. \n\n\n\nYou must register through GEWKC.org\n\nFor A Cup on the Hill\n\nFor KC Cupcake Co.
X-ALT-DESC;FMTTYPE=text/html:Be a part of the biggest celebration of innovation\, inspiration and entrepreneurship&nbsp\;around. During GEW Kansas City\, you&#39\;ll find tons fo events that engage and connect entrepreneurs across the Kansas City community. Network with other entrepreneurs\, brainstorm new ideas and hear from top though leaders.&nbsp\;<br />\n<br />\nYou must register through GEWKC.org<br />\nFor <a href="http://www.kcsourcelink.com/gew/d/gew-kc-2016/coffee-kickoff-@-a-cup-on-the-hill">A Cup on the Hill</a><br />\nFor <a href="http://www.kcsourcelink.com/gew/d/gew-kc-2016/coffee-kickoff-@-kc-cupcake-co">KC Cupcake Co.</a>&nbsp\;
LOCATION:KC Cupcake Co. 719 N. 6th Street KCK 66101 A Cup on the Hill 730 Minnesota Ave. KCK 66101
UID:e.1213.370
SEQUENCE:3
DTSTAMP:20260420T054507Z
URL:https://business.kckchamber.com/events/details/2016-global-entrepreneurship-week-coffee-kick-off-370
END:VEVENT

END:VCALENDAR
