BEGIN:VCALENDAR
VERSION:2.0
PRODID:-//ChamberMaster//Event Calendar 2.0//EN
METHOD:PUBLISH
X-PUBLISHED-TTL:P3D
REFRESH-INTERVAL:P3D
CALSCALE:GREGORIAN
BEGIN:VEVENT
DTSTART:20160408T140000Z
DTEND:20160408T153000Z
X-MICROSOFT-CDO-ALLDAYEVENT:FALSE
SUMMARY:2016 Legislative Committee - April
DESCRIPTION:April's Legislative meeting is a great opportunity for you to provide updates to the KCK/WyCo business community and discuss important issues in KCK/WyCo.\n\nWe are pleased to have confirmed to date the following Legislators for this month's meeting:\n\n\n	Representative Tom Burroughs\n	Representative Pam Curtis\n	Representative Kathy Wolfe-Moore\n	Senator Steve Fitzgerald\n	Senator Pat Pettey
X-ALT-DESC;FMTTYPE=text/html:<span style="font-family:calibri\,sans-serif\;"><span style="font-size:12.0pt\;">April&rsquo\;s Legislative meeting is a great opportunity for you to provide updates to the KCK/WyCo business community and discuss important issues in KCK/WyCo.<br />\nWe are pleased to have confirmed to date the following Legislators for this month&#39\;s meeting:</span></span>\n\n<ul>\n	<li>Representative Tom Burroughs</li>\n	<li>Representative Pam Curtis</li>\n	<li>Representative Kathy Wolfe-Moore</li>\n	<li>Senator Steve Fitzgerald</li>\n	<li>Senator Pat Pettey</li>\n</ul>\n
LOCATION:Kansas City Kansas Community College Upper Level Jewell Room 7250 State Ave\, Kansas City\, Kansas
UID:e.1213.330
SEQUENCE:3
DTSTAMP:20260420T151509Z
URL:https://business.kckchamber.com/events/details/2016-legislative-committee-april-04-08-2016-330
END:VEVENT

END:VCALENDAR
