BEGIN:VCALENDAR
VERSION:2.0
PRODID:-//ChamberMaster//Event Calendar 2.0//EN
METHOD:PUBLISH
X-PUBLISHED-TTL:P3D
REFRESH-INTERVAL:P3D
CALSCALE:GREGORIAN
BEGIN:VEVENT
DTSTART:20160610T140000Z
DTEND:20160611T033000Z
X-MICROSOFT-CDO-ALLDAYEVENT:FALSE
SUMMARY:2016 Legislative Committee - June
DESCRIPTION:The KCK Chamber supports a transparent legislative process that follows the traditional committee format to ensure a fair hearing of all legislative issues facing the State of Kansas for the benefit of the citizens of the state.\n\n\n\nWe encourage businesses of all sizes to become active in the Legislative Committee and play a vital role in assisting with local\, state\, and federal legislative affairs for the community. \n\n\n\nVisit KCKChamber.com/Legislative to view our annual Legislative Agenda.
X-ALT-DESC;FMTTYPE=text/html:The KCK Chamber supports a transparent legislative process that follows the traditional committee format to ensure a fair hearing of all legislative issues facing the State of Kansas for the benefit of the citizens of the state.<br />\n<br />\nWe encourage businesses of all sizes to become active in the Legislative Committee and play a vital role in assisting with local\, state\, and federal legislative affairs for the community.&nbsp\;<br />\n<br />\nVisit <a href="http://KCKChamber.com/Legislative">KCKChamber.com/Legislative</a> to view our annual Legislative Agenda.
LOCATION:KCK Chamber 727 Minnesota Ave Kansas City\, KS 66101
UID:e.1213.343
SEQUENCE:3
DTSTAMP:20260420T115034Z
URL:https://business.kckchamber.com/events/details/2016-legislative-committee-june-06-10-2016-343
END:VEVENT

END:VCALENDAR
