BEGIN:VCALENDAR
VERSION:2.0
PRODID:-//ChamberMaster//Event Calendar 2.0//EN
METHOD:PUBLISH
X-PUBLISHED-TTL:P3D
REFRESH-INTERVAL:P3D
CALSCALE:GREGORIAN
BEGIN:VEVENT
DTSTART:20160412T123000Z
DTEND:20160412T140000Z
X-MICROSOFT-CDO-ALLDAYEVENT:FALSE
SUMMARY:2016 Resource Business Breakfast - April
DESCRIPTION:Establishing relationships is one of the best ways to obtain business referrals.  This breakfast networking group is designed so members can share what they do\, ask for referrals and ask other business leaders for resources at the same time. \n\n\n\nThis group will help KCK Chamber businesses to do business with each other.  Members will be able watch their businesses multiply by applying referral and networking strategies that go beyond normal networking.\n\n\n\nJoin the Chamber and other chamber members to find more resources and gain referrals for your business!
X-ALT-DESC;FMTTYPE=text/html:<span style="font-family: tahoma\;"><span style="color: black\;"><span style="font-size: 12pt\;">Establishing relationships is one of the best ways to obtain business referrals.&nbsp\; This breakfast networking group is designed so members can share what they do\, ask for referrals and ask other business leaders for resources at the same time. </span></span><br />\n<br />\n<span><span style="color: black\;"><span style="font-size: 12pt\;">This group will help KCK Chamber businesses to do business with each other. &nbsp\;Members will be able watch their businesses multiply by applying referral and networking strategies that go beyond normal networking.<br />\n<br />\nJoin the Chamber and other chamber members to find more resources and gain referrals for your business!</span></span></span></span>
LOCATION:Granite City-Legends Outlet Kansas City 1701 Village W Parkway Kansas City\, KS 66111
UID:e.1213.308
SEQUENCE:3
DTSTAMP:20260420T164449Z
URL:https://business.kckchamber.com/events/details/2016-resource-business-breakfast-april-04-12-2016-308
END:VEVENT

END:VCALENDAR
