BEGIN:VCALENDAR
VERSION:2.0
PRODID:-//ChamberMaster//Event Calendar 2.0//EN
METHOD:PUBLISH
X-PUBLISHED-TTL:P3D
REFRESH-INTERVAL:P3D
CALSCALE:GREGORIAN
BEGIN:VEVENT
DTSTART:20160205T220000Z
DTEND:20160205T230000Z
X-MICROSOFT-CDO-ALLDAYEVENT:FALSE
SUMMARY:2016 Ribbon Cutting - Alfred Benesch & Company
DESCRIPTION:Join us celebrate with our new member with a Ribbon Cutting ceremony to start their open house!
X-ALT-DESC;FMTTYPE=text/html:Join us celebrate with our new member with a Ribbon Cutting ceremony to start their open house!&nbsp\;
LOCATION:11010 Haskell Avenue\, Suite 200 Kansas City\, KS 66109
UID:e.1213.298
SEQUENCE:3
DTSTAMP:20260420T200515Z
URL:https://business.kckchamber.com/events/details/2016-ribbon-cutting-alfred-benesch-company-02-05-2016-298
END:VEVENT

END:VCALENDAR
