BEGIN:VCALENDAR
VERSION:2.0
PRODID:-//ChamberMaster//Event Calendar 2.0//EN
METHOD:PUBLISH
X-PUBLISHED-TTL:P3D
REFRESH-INTERVAL:P3D
CALSCALE:GREGORIAN
BEGIN:VEVENT
DTSTART:20160609T210000Z
DTEND:20160609T214500Z
X-MICROSOFT-CDO-ALLDAYEVENT:FALSE
SUMMARY:2016 Ribbon Cutting - Tiffany & Co. Avis Car Rental
DESCRIPTION:Help welcome our new member\, Tiffany & Co. Avis Car Rental! Tiffany has recently moved to the KCK area and is eager to grow her connections and get involved in our community.
X-ALT-DESC;FMTTYPE=text/html:Help welcome our new member\, Tiffany &amp\; Co. Avis Car Rental! Tiffany has recently moved to the KCK area and is eager to grow her connections and get involved in our community.
LOCATION:8345 State Avenue Kansas City\, KS 66112
UID:e.1213.346
SEQUENCE:3
DTSTAMP:20260420T133620Z
URL:https://business.kckchamber.com/events/details/2016-ribbon-cutting-tiffany-co-avis-car-rental-06-09-2016-346
END:VEVENT

END:VCALENDAR
