BEGIN:VCALENDAR
VERSION:2.0
PRODID:-//ChamberMaster//Event Calendar 2.0//EN
METHOD:PUBLISH
X-PUBLISHED-TTL:P3D
REFRESH-INTERVAL:P3D
CALSCALE:GREGORIAN
BEGIN:VEVENT
DTSTART:20160929T223000Z
DTEND:20160930T000000Z
X-MICROSOFT-CDO-ALLDAYEVENT:FALSE
SUMMARY:2016 Young Professionals Interest Meeting September
DESCRIPTION:Interested in pioneering and becoming a part of the KCK Chamber Young Professionals Network? Join us on Sept. 29 for cocktails and appetizers\, as we initiate the conversation and discuss possibilities for this evolving committee!
X-ALT-DESC;FMTTYPE=text/html:Interested in pioneering and becoming a part of the KCK Chamber Young Professionals Network? Join us on Sept. 29 for cocktails and appetizers\, as we initiate the conversation and discuss possibilities for this evolving committee!&nbsp\;&nbsp\;&nbsp\;&nbsp\;&nbsp\;&nbsp\;&nbsp\;&nbsp\;&nbsp\;&nbsp\;&nbsp\;&nbsp\;
LOCATION:KCK Chamber 727 Minnesota Ave. Kansas City\, KS 66101
UID:e.1213.358
SEQUENCE:3
DTSTAMP:20260420T073645Z
URL:https://business.kckchamber.com/events/details/2016-young-professionals-interest-meeting-september-358
END:VEVENT

END:VCALENDAR
