BEGIN:VCALENDAR
VERSION:2.0
PRODID:-//ChamberMaster//Event Calendar 2.0//EN
METHOD:PUBLISH
X-PUBLISHED-TTL:P3D
REFRESH-INTERVAL:P3D
CALSCALE:GREGORIAN
BEGIN:VEVENT
DTSTART:20170607T130000Z
DTEND:20170607T140000Z
X-MICROSOFT-CDO-ALLDAYEVENT:FALSE
SUMMARY:2017 - Ambassador's Meeting
DESCRIPTION:Each month we host our volunteer Ambassadors meeting.  Our Ambassadors are the volunteer arm of the KCK Chamber.  If you'd like to learn more\, contact Kate Kershaw\, Dir. of Membership\, kate@kckchamber.com
X-ALT-DESC;FMTTYPE=text/html:Each month we host our volunteer Ambassadors meeting.&nbsp\; Our Ambassadors are the volunteer arm of the KCK Chamber.&nbsp\; If you&#39\;d like to learn more\, contact Kate Kershaw\, Dir. of Membership\, <a href="mailto:kate@kckchamber.com">kate@kckchamber.com</a>
LOCATION:KCK Chamber offices 727 Minnesota Avenue Kansas City\, KS 66101
UID:e.1213.435
SEQUENCE:3
DTSTAMP:20260419T163503Z
URL:https://business.kckchamber.com/events/details/2017-ambassador-s-meeting-06-07-2017-435
END:VEVENT

END:VCALENDAR
