BEGIN:VCALENDAR
VERSION:2.0
PRODID:-//ChamberMaster//Event Calendar 2.0//EN
METHOD:PUBLISH
X-PUBLISHED-TTL:P3D
REFRESH-INTERVAL:P3D
CALSCALE:GREGORIAN
BEGIN:VEVENT
DTSTART:20170126T223000Z
DTEND:20170127T003000Z
X-MICROSOFT-CDO-ALLDAYEVENT:FALSE
SUMMARY:2017 -- Business After Hours Great Wolf Lodge
DESCRIPTION:The KCK Chamber ended 2016 with a series of successful Business After Hours with 100+ attendees at each event\, and we are building on that momentum. \n\n\n\nJoin us for cocktails\, appetizers and network with the area's leading business professionals at the Great Wolf Lodge!
X-ALT-DESC;FMTTYPE=text/html:<font color="#000000" face="Open Sans\, sans-serif"><span style="font-size: 15px\; font-weight: 600\;">The KCK Chamber ended 2016 with a series of successful Business After Hours with 100+ attendees at each event\, and we are building on that momentum.&nbsp\;<br />\n<br />\nJoin us for cocktails\, appetizers and network with the area&#39\;s leading business professionals at the Great Wolf Lodge!&nbsp\;</span></font>
LOCATION:Great Wolf Lodge 10401 Cabela Dr. Kansas City\, KS 66111
UID:e.1213.403
SEQUENCE:3
DTSTAMP:20260420T003331Z
URL:https://business.kckchamber.com/events/details/2017-business-after-hours-great-wolf-lodge-403
END:VEVENT

END:VCALENDAR
