BEGIN:VCALENDAR
VERSION:2.0
PRODID:-//ChamberMaster//Event Calendar 2.0//EN
METHOD:PUBLISH
X-PUBLISHED-TTL:P3D
REFRESH-INTERVAL:P3D
CALSCALE:GREGORIAN
BEGIN:VEVENT
DTSTART:20170706T223000Z
DTEND:20170707T020000Z
X-MICROSOFT-CDO-ALLDAYEVENT:FALSE
SUMMARY:2017 Chamber of Commerce Night at Sporting KC
DESCRIPTION:Join the KCK Chamber for Chamber Night at Sporting KC! $40 gets you reserved seating for Sporting KC vs. Philadelphia Union at 7:30 p.m.\, exclusive access to a 90 minute pre-match Chamber networking session from 5:30 - 7 p.m. located on the Ivy Investments executive-level lounge\, opportunity to mix and mingle with top Sporting KC executives\, two (2) complimentary beverages & hor d'oeuvres and a special visit by Blue during the match!
X-ALT-DESC;FMTTYPE=text/html:Join the KCK Chamber for Chamber Night at Sporting KC! $40 gets you reserved seating for Sporting KC vs. Philadelphia Union at 7:30 p.m.\, exclusive access to a 90 minute pre-match Chamber networking session from 5:30 - 7 p.m. located on the Ivy Investments executive-level lounge\, opportunity to mix and mingle with top Sporting KC executives\, two (2) complimentary beverages &amp\; hor d&#39\;oeuvres and a special visit by Blue during the match!&nbsp\;
LOCATION:Children's Mercy Park One Sporting Way Kansas City\, KS 66111
UID:e.1213.509
SEQUENCE:3
DTSTAMP:20260419T145423Z
URL:https://business.kckchamber.com/events/details/2017-chamber-of-commerce-night-at-sporting-kc-509
END:VEVENT

END:VCALENDAR
