BEGIN:VCALENDAR
VERSION:2.0
PRODID:-//ChamberMaster//Event Calendar 2.0//EN
METHOD:PUBLISH
X-PUBLISHED-TTL:P3D
REFRESH-INTERVAL:P3D
CALSCALE:GREGORIAN
BEGIN:VEVENT
DTSTART:20170818T163000Z
DTEND:20170818T180000Z
X-MICROSOFT-CDO-ALLDAYEVENT:FALSE
SUMMARY:2017 Congressional Forum: Colleen McCain Nelson\, VP and Editorial Page Editor of The Kansas City Star
DESCRIPTION:Colleen McCain Nelson is vice president and editorial page editor of The Kansas City Star. She joined The Star in December 2016 after working as a White House Correspondent for The Wall Street Journal and as an editorial writer and columnist for The Dallas Morning News.\n\n\n\nNelson is a Pulitzer Prize-winning journalist and a former political reporter who has chronicled three presidential campaigns. In 2016\, she criss-crossed the country with Hillary Clinton\, Donald Trump and Bernie Sanders. As a White House reporter for The Wall Street Journal\, she wrote about the policies\, politics and personalities in President Barack Obama's administration\, traveling the world with the president and vice president.\n\n\n\nBefore joining The Wall Street Journal\, Nelson worked at The Dallas Morning News where she wrote about local\, state and national politics as a reporter and\, later\, as an editorial writer and a columnist.\n\n\n\nIn 2010\, Ms. Nelson and two of her colleagues were awarded the Pulitzer Prize for editorial writing\, recognition for a series of editorials that condemned the stark economic and social disparity separating Dallas' thriving northern half and struggling southern half.\n\n\n\nNelson was raised in Salina\, Kan.\, and is a graduate of the University of Kansas.
X-ALT-DESC;FMTTYPE=text/html:<span style="font-family:arial\,sans-serif\;"><span style="font-size:9.5pt\;">Colleen McCain Nelson is vice president and editorial page editor of The Kansas City Star. She joined The Star in December 2016 after working as a White House Correspondent for The Wall Street Journal and as an editorial writer and columnist for The Dallas Morning News.</span></span><br />\n<br />\n<span style="font-family:arial\,sans-serif\;"><span style="font-size:9.5pt\;">Nelson is a Pulitzer Prize-winning journalist and a former political reporter who has chronicled three presidential campaigns. In 2016\, she criss-crossed the country with Hillary Clinton\, Donald Trump and Bernie Sanders. As a White House reporter for The Wall Street Journal\, she wrote about the policies\, politics and personalities in President Barack Obama&rsquo\;s administration\, traveling the world with the president and vice president.</span></span><br />\n<br />\n<span style="font-family:arial\,sans-serif\;"><span style="font-size:9.5pt\;">Before joining The Wall Street Journal\, Nelson worked at The Dallas Morning News where she wrote about local\, state and national politics as a reporter and\, later\, as an editorial writer and a columnist.</span></span><br />\n<br />\n<span style="font-family:arial\,sans-serif\;"><span style="font-size:9.5pt\;">In 2010\, Ms. Nelson and two of her colleagues were awarded the Pulitzer Prize for editorial writing\, recognition for a series of editorials that condemned the stark economic and social disparity separating Dallas&rsquo\; thriving northern half and struggling southern half.</span></span><br />\n<br />\n<span style="font-family:arial\,sans-serif\;"><span style="font-size:9.5pt\;">Nelson was raised in Salina\, Kan.\, and is a graduate of the University of Kansas.</span></span><br />\n<br />\n<br />\n&nbsp\;
LOCATION:Children's Mercy Park 1 Sporting Way Kansas City\, KS 66111
UID:e.1213.1526
SEQUENCE:3
DTSTAMP:20260419T150228Z
URL:https://business.kckchamber.com/events/details/2017-congressional-forum-colleen-mccain-nelson-vp-and-editorial-page-editor-of-the-kansas-city-star-1526
END:VEVENT

END:VCALENDAR
