BEGIN:VCALENDAR
VERSION:2.0
PRODID:-//ChamberMaster//Event Calendar 2.0//EN
METHOD:PUBLISH
X-PUBLISHED-TTL:P3D
REFRESH-INTERVAL:P3D
CALSCALE:GREGORIAN
BEGIN:VEVENT
DTSTART:20170421T163000Z
DTEND:20170421T180000Z
X-MICROSOFT-CDO-ALLDAYEVENT:FALSE
SUMMARY:2017 Congressional Forum: Congressman Yoder and Special Guest Congressman Cleaver SOLD OUT
DESCRIPTION:Congressman Kevin Yoder with special guest Congressman Emanuel Cleaver
X-ALT-DESC;FMTTYPE=text/html:Congressman Kevin Yoder with special guest Congressman Emanuel Cleaver&nbsp\;&nbsp\;&nbsp\;&nbsp\;
LOCATION:Children's Mercy Park
UID:e.1213.503
SEQUENCE:3
DTSTAMP:20260419T215053Z
URL:https://business.kckchamber.com/events/details/2017-congressional-forum-congressman-yoder-and-special-guest-congressman-cleaver-sold-out-503
END:VEVENT

END:VCALENDAR
