BEGIN:VCALENDAR
VERSION:2.0
PRODID:-//ChamberMaster//Event Calendar 2.0//EN
METHOD:PUBLISH
X-PUBLISHED-TTL:P3D
REFRESH-INTERVAL:P3D
CALSCALE:GREGORIAN
BEGIN:VEVENT
DTSTART:20170120T173000Z
DTEND:20170120T193000Z
X-MICROSOFT-CDO-ALLDAYEVENT:FALSE
SUMMARY:2017 -- Congressional Forum - Ronald L. Miller\, U.S. Marshall\, District Kansas
DESCRIPTION:Speaker TBD
X-ALT-DESC;FMTTYPE=text/html:Speaker TBD
LOCATION:Reardon Convention Center 520 Minnesota Avenue Kansas City\, KS 66101
UID:e.1213.401
SEQUENCE:3
DTSTAMP:20260420T003630Z
URL:https://business.kckchamber.com/events/details/2017-congressional-forum-ronald-l-miller-u-s-marshall-district-kansas-401
END:VEVENT

END:VCALENDAR
