BEGIN:VCALENDAR
VERSION:2.0
PRODID:-//ChamberMaster//Event Calendar 2.0//EN
METHOD:PUBLISH
X-PUBLISHED-TTL:P3D
REFRESH-INTERVAL:P3D
CALSCALE:GREGORIAN
BEGIN:VEVENT
DTSTART:20170621T220000Z
DTEND:20170622T000000Z
X-MICROSOFT-CDO-ALLDAYEVENT:FALSE
SUMMARY:2017 June Business After Hours - McCownGordon Construction
DESCRIPTION:Join us for another high energy evening networking session\, this time on the impressive roof top space of KCK Chamber member\, McCownGordon Construction.We will also be recognizing fellow non profit member\, Unbound\, during the reception!
X-ALT-DESC;FMTTYPE=text/html:Join us for another high energy evening networking session\, this time on the impressive roof top space of KCK Chamber member\, McCownGordon Construction.We will also be recognizing fellow non profit member\, Unbound\, during the reception!
LOCATION:McCownGordon Construction 422 Admiral Blvd KCMO 64106
UID:e.1213.430
SEQUENCE:3
DTSTAMP:20260419T181727Z
URL:https://business.kckchamber.com/events/details/2017-june-business-after-hours-mccowngordon-construction-430
END:VEVENT

END:VCALENDAR
