BEGIN:VCALENDAR
VERSION:2.0
PRODID:-//ChamberMaster//Event Calendar 2.0//EN
METHOD:PUBLISH
X-PUBLISHED-TTL:P3D
REFRESH-INTERVAL:P3D
CALSCALE:GREGORIAN
BEGIN:VEVENT
DTSTART:20170216T233000Z
DTEND:20170217T013000Z
X-MICROSOFT-CDO-ALLDAYEVENT:FALSE
SUMMARY:2017- KCK YP and YLP Joint Event-No Other Pub
DESCRIPTION:Join us for a joint networker with the KCK Young Professionals and Young Latino Professionals at No Other Pub!
X-ALT-DESC;FMTTYPE=text/html:Join us for a joint networker with the KCK Young Professionals and Young Latino Professionals at No Other Pub! &nbsp\;
LOCATION:No Other Pub 1370 Grand Blvd. Kansas City\, MO
UID:e.1213.408
SEQUENCE:3
DTSTAMP:20260419T230856Z
URL:https://business.kckchamber.com/events/details/2017-kck-yp-and-ylp-joint-event-no-other-pub-408
END:VEVENT

END:VCALENDAR
