BEGIN:VCALENDAR
VERSION:2.0
PRODID:-//ChamberMaster//Event Calendar 2.0//EN
METHOD:PUBLISH
X-PUBLISHED-TTL:P3D
REFRESH-INTERVAL:P3D
CALSCALE:GREGORIAN
BEGIN:VEVENT
DTSTART:20170509T124500Z
DTEND:20170509T140000Z
X-MICROSOFT-CDO-ALLDAYEVENT:FALSE
SUMMARY:2017-Resource Business Breakfast - Sponsored by WorkWell Wyandotte (Members Only)
DESCRIPTION:KCK Chamber members\, are you looking to start your day off right with some networking and referrals?  Grab your business cards and join us for our Resource Business Breakfast with hearty fare sponsored by Granite City Food and Brewery in the Legends!
X-ALT-DESC;FMTTYPE=text/html:KCK Chamber members\, are you looking to start your day off right with some networking and referrals?&nbsp\; Grab your business cards and join us for our Resource Business Breakfast&nbsp\;with hearty fare&nbsp\;sponsored by Granite City Food and Brewery in the Legends!
LOCATION:Granite City Food and Brewery Legends 1701 Village West Parkway Kansas City\, KS 66111
UID:e.1213.426
SEQUENCE:3
DTSTAMP:20260419T181934Z
URL:https://business.kckchamber.com/events/details/2017-resource-business-breakfast-sponsored-by-workwell-wyandotte-members-only-426
END:VEVENT

END:VCALENDAR
