BEGIN:VCALENDAR
VERSION:2.0
PRODID:-//ChamberMaster//Event Calendar 2.0//EN
METHOD:PUBLISH
X-PUBLISHED-TTL:P3D
REFRESH-INTERVAL:P3D
CALSCALE:GREGORIAN
BEGIN:VEVENT
DTSTART:20170613T124500Z
DTEND:20170613T140000Z
X-MICROSOFT-CDO-ALLDAYEVENT:FALSE
SUMMARY:2017-Resource Business Breakfast - Sponsored by WorkWell Wyandotte (Members Only)
DESCRIPTION:KCK Chamber members\, are you looking to start your day off right with some networking and referrals?  Grab your business cards and join us for our Resource Business Breakfast! June's event will be held at the Cup on the Hill and will also include a brief update by the Downtown Shareholders.
X-ALT-DESC;FMTTYPE=text/html:KCK Chamber members\, are you looking to start your day off right with some networking and referrals?&nbsp\; Grab your business cards and join us for our Resource Business Breakfast! June&#39\;s event will be held at the Cup on the Hill and will also include a brief update by the Downtown Shareholders.
LOCATION:Cup on the Hill 730 Minnesota Avenue Kansas City\, KS
UID:e.1213.511
SEQUENCE:3
DTSTAMP:20260419T163917Z
URL:https://business.kckchamber.com/events/details/2017-resource-business-breakfast-sponsored-by-workwell-wyandotte-members-only-511
END:VEVENT

END:VCALENDAR
