BEGIN:VCALENDAR
VERSION:2.0
PRODID:-//ChamberMaster//Event Calendar 2.0//EN
METHOD:PUBLISH
X-PUBLISHED-TTL:P3D
REFRESH-INTERVAL:P3D
CALSCALE:GREGORIAN
BEGIN:VEVENT
DTSTART:20170209T160000Z
DTEND:20170209T170000Z
X-MICROSOFT-CDO-ALLDAYEVENT:FALSE
SUMMARY:2017 - Ribbon Cutting Mario Giraldo State Farm Insurance
DESCRIPTION:Join us for a ribbon cutting with new member\, Mario Giraldo - State Farm Insurance Agent!
X-ALT-DESC;FMTTYPE=text/html:Join us for a ribbon cutting with new member\, Mario Giraldo&nbsp\;- State Farm Insurance Agent!
LOCATION:STATE FARM INSURANCE & FINANCIAL SERVICES Legends Area | 10940 Parallel Parkway Suite J KANSAS CITY\, KS 66109
UID:e.1213.496
SEQUENCE:3
DTSTAMP:20260420T003729Z
URL:https://business.kckchamber.com/events/details/2017-ribbon-cutting-mario-giraldo-state-farm-insurance-496
END:VEVENT

END:VCALENDAR
