BEGIN:VCALENDAR
VERSION:2.0
PRODID:-//ChamberMaster//Event Calendar 2.0//EN
METHOD:PUBLISH
X-PUBLISHED-TTL:P3D
REFRESH-INTERVAL:P3D
CALSCALE:GREGORIAN
BEGIN:VEVENT
DTSTART:20170112T150000Z
DTEND:20170112T160000Z
X-MICROSOFT-CDO-ALLDAYEVENT:FALSE
SUMMARY:2017 -- Ribbon Cutting YMCA Providence | Ball Family Center
DESCRIPTION:Join us in celebrating the new and improved YMCA Providence | Ball Family Center!
X-ALT-DESC;FMTTYPE=text/html:Join us in celebrating the new and improved YMCA Providence | Ball Family Center!&nbsp\;&nbsp\;&nbsp\;&nbsp\;&nbsp\;&nbsp\;&nbsp\;&nbsp\;&nbsp\;
LOCATION:YMCA Providence | Ball Family Center 8601 Parallel Pkwy Kansas City\, KS 66112
UID:e.1213.396
SEQUENCE:3
DTSTAMP:20260420T021752Z
URL:https://business.kckchamber.com/events/details/2017-ribbon-cutting-ymca-providence-ball-family-center-396
END:VEVENT

END:VCALENDAR
