BEGIN:VCALENDAR
VERSION:2.0
PRODID:-//ChamberMaster//Event Calendar 2.0//EN
METHOD:PUBLISH
X-PUBLISHED-TTL:P3D
REFRESH-INTERVAL:P3D
CALSCALE:GREGORIAN
BEGIN:VEVENT
DTSTART:20170131T230000Z
DTEND:20170201T003000Z
X-MICROSOFT-CDO-ALLDAYEVENT:FALSE
SUMMARY:2017 -- Taste of the Chamber Member Orientation
DESCRIPTION:The KCK Chamber hosts a quarterly informational meeting for members who want to learn more about the Chamber and how to get involved. We encourage our members to attend in order to meet the other members and the Chamber staff\, introduce your business\, familiarize yourself with the variety of benefits we offer and get connected! Light refreshments will be provided with RSVP by January 30.\n\n\n\nAt each "Taste of the Chamber" we present an informal presentation covering all you need to know to get engaged and make sure your membership is working for you.  Also in attendance at the meeting are the Chamber Ambassadors and some of our marketing partners.
X-ALT-DESC;FMTTYPE=text/html:The KCK Chamber hosts a quarterly informational meeting for members who want to learn more about the Chamber and how to get involved. We encourage our members to attend in order to meet the other members and the Chamber staff\, introduce your business\, familiarize yourself with the variety of benefits we offer and get connected!&nbsp\;Light refreshments will be&nbsp\;provided with RSVP by January 30.<br />\n<br />\nAt each &ldquo\;Taste of the Chamber&rdquo\; we present an informal presentation covering all you need to know to get engaged and make sure your membership is working for you. &nbsp\;Also in attendance at the meeting are the Chamber Ambassadors and some of our marketing partners.&nbsp\;
LOCATION:KCK Chamber 727 Minnesota Ave Kansas City\, KS 66101
UID:e.1213.404
SEQUENCE:3
DTSTAMP:20260420T003748Z
URL:https://business.kckchamber.com/events/details/2017-taste-of-the-chamber-member-orientation-404
END:VEVENT

END:VCALENDAR
