BEGIN:VCALENDAR
VERSION:2.0
PRODID:-//ChamberMaster//Event Calendar 2.0//EN
METHOD:PUBLISH
X-PUBLISHED-TTL:P3D
REFRESH-INTERVAL:P3D
CALSCALE:GREGORIAN
BEGIN:VEVENT
DTSTART:20150902T124500Z
DTEND:20150902T140000Z
X-MICROSOFT-CDO-ALLDAYEVENT:FALSE
SUMMARY:Ambassador Club Meeting
DESCRIPTION:Ambassadors assist with Chamber events\, new member recruitment\, retention\, groundbreakings and ribbon cuttings. This is a great way to network in many different arenas and get to know the community.
X-ALT-DESC;FMTTYPE=text/html:Ambassadors assist with Chamber events\, new member recruitment\, retention\, groundbreakings and ribbon cuttings. This is a great way to network in many different arenas&nbsp\;and get to know the community.&nbsp\;
LOCATION:Board of Public Utilities 540 Minnesota Avenue Kansas City\, KS 66101
UID:e.1213.275
SEQUENCE:3
DTSTAMP:20260421T022441Z
URL:https://business.kckchamber.com/events/details/ambassador-club-meeting-09-02-2015-275
END:VEVENT

END:VCALENDAR
