BEGIN:VCALENDAR
VERSION:2.0
PRODID:-//ChamberMaster//Event Calendar 2.0//EN
METHOD:PUBLISH
X-PUBLISHED-TTL:P3D
REFRESH-INTERVAL:P3D
CALSCALE:GREGORIAN
BEGIN:VEVENT
DTSTART:20151007T124500Z
DTEND:20151008T020000Z
X-MICROSOFT-CDO-ALLDAYEVENT:FALSE
SUMMARY:Ambassador Club Meeting
DESCRIPTION:Monthly meeting for KCK Chamber Ambassadors.  Agenda includes introductions\, good news\, upcoming events and more. Meeting is held at a Kansas City Kansas area business or the Chamber offices. Light breakfast is complimentary and meeting is approximately an hour and 15 minutes long.
X-ALT-DESC;FMTTYPE=text/html:Monthly meeting for KCK Chamber Ambassadors. &nbsp\;Agenda includes introductions\, good news\, upcoming events and more. Meeting is held at a Kansas&nbsp\;City Kansas area business or the Chamber offices. Light breakfast is complimentary and meeting is approximately an hour and 15 minutes long.
LOCATION:October Meeting - The Healthcare Resort of Kansas City 8900 Parallel Parkway Kansas City\, KS 66112
UID:e.1213.276
SEQUENCE:3
DTSTAMP:20260421T003927Z
URL:https://business.kckchamber.com/events/details/ambassador-club-meeting-10-07-2015-276
END:VEVENT

END:VCALENDAR
