BEGIN:VCALENDAR
VERSION:2.0
PRODID:-//ChamberMaster//Event Calendar 2.0//EN
METHOD:PUBLISH
X-PUBLISHED-TTL:P3D
REFRESH-INTERVAL:P3D
CALSCALE:GREGORIAN
BEGIN:VEVENT
DTSTART:20151104T134500Z
DTEND:20151104T150000Z
X-MICROSOFT-CDO-ALLDAYEVENT:FALSE
SUMMARY:Ambassador Club Meeting
DESCRIPTION:Monthly meeting for KCK Chamber Ambassador Club.  Members meet to discuss chamber updates\, upcoming events\, volunteer opportunities and other areas they can assist and volunteer.
X-ALT-DESC;FMTTYPE=text/html:Monthly meeting for KCK Chamber Ambassador Club. &nbsp\;Members meet to discuss chamber updates\, upcoming events\, volunteer opportunities and other areas they can assist and volunteer. &nbsp\;
LOCATION:Chick-Fil-A Village West 10770 Parallel Pkwy\, Kansas City\, KS 66109 913-334-2442
UID:e.1213.277
SEQUENCE:3
DTSTAMP:20260421T005102Z
URL:https://business.kckchamber.com/events/details/ambassador-club-meeting-11-04-2015-277
END:VEVENT

END:VCALENDAR
