BEGIN:VCALENDAR
VERSION:2.0
PRODID:-//ChamberMaster//Event Calendar 2.0//EN
METHOD:PUBLISH
X-PUBLISHED-TTL:P3D
REFRESH-INTERVAL:P3D
CALSCALE:GREGORIAN
BEGIN:VEVENT
DTSTART:20150506T124500Z
DTEND:20150506T140000Z
X-MICROSOFT-CDO-ALLDAYEVENT:FALSE
SUMMARY:Ambassador's Club
DESCRIPTION:Ambassadors assist with Chamber events\, new member recruitment\, retention\, groundbreakings and ribbon cuttings. This is a great way to network in many different arenas and get to know the community.
X-ALT-DESC;FMTTYPE=text/html:Ambassadors assist with Chamber events\, new member recruitment\, retention\, groundbreakings and ribbon cuttings. This is a great way to network in many different arenas&nbsp\;and get to know the community.&nbsp\;
LOCATION:Alphapointe 7501 Prospect Kansas City\, MO 64132
UID:e.1213.250
SEQUENCE:3
DTSTAMP:20260421T085237Z
URL:https://business.kckchamber.com/events/details/ambassador-s-club-05-06-2015-250
END:VEVENT

END:VCALENDAR
