BEGIN:VCALENDAR
VERSION:2.0
PRODID:-//ChamberMaster//Event Calendar 2.0//EN
METHOD:PUBLISH
X-PUBLISHED-TTL:P3D
REFRESH-INTERVAL:P3D
CALSCALE:GREGORIAN
BEGIN:VEVENT
DTSTART:20120229T173000Z
DTEND:20120229T190000Z
X-MICROSOFT-CDO-ALLDAYEVENT:FALSE
SUMMARY:Annual Meeting
DESCRIPTION:The Chamber is "Going Hollywood".  Save the date for the KCK Chamber Annual Meeting as we celebrate the opening of the Hollywood Casino at Kansas Speedway.  Our speaker will be Tim Wilmott\, COO of Penn National Gaming.
X-ALT-DESC;FMTTYPE=text/html:The Chamber is &quot\;Going Hollywood&quot\;.&nbsp\; Save the date for the KCK Chamber Annual Meeting as we celebrate the opening of the Hollywood Casino at Kansas Speedway.&nbsp\; Our speaker will be Tim Wilmott\, COO of Penn National Gaming.
LOCATION:Reardon Convention Center 500 Minnesota Avenue Kansas City KS
UID:e.1213.13
SEQUENCE:3
DTSTAMP:20260425T232101Z
URL:https://business.kckchamber.com/events/details/annual-meeting-02-29-2012-13
END:VEVENT

END:VCALENDAR
