BEGIN:VCALENDAR
VERSION:2.0
PRODID:-//ChamberMaster//Event Calendar 2.0//EN
METHOD:PUBLISH
X-PUBLISHED-TTL:P3D
REFRESH-INTERVAL:P3D
CALSCALE:GREGORIAN
BEGIN:VEVENT
DTSTART:20130411T163000Z
DTEND:20130411T180000Z
X-MICROSOFT-CDO-ALLDAYEVENT:FALSE
SUMMARY:Annual Meeting
DESCRIPTION:KCK Chamber Annual Meeting.\n\n\n\nThis year's theme is "We Believe. Moving KCK forward one goal at a time."\n\n\n\nFeatured Speaker:\n\nRobb Heineman\, CEO of Sporting Club\n\n\n\nDress is "Sporting Casual."\n\n\n\nYou can still purchase tickets and tables by contacting Bridget at 913-748-2303 or bridget@kckchamber.com.
X-ALT-DESC;FMTTYPE=text/html:<span style="font-size: 14px"><em><strong>KCK Chamber Annual Meeting.</strong></em></span><br />\n<br />\nThis year&#39\;s theme is <strong><em>&quot\;We Believe. Moving KCK forward one goal at a time.&quot\;</em><br />\n<br />\nFeatured Speaker:</strong><br />\nRobb Heineman\, CEO of Sporting Club<br />\n<br />\nDress is &quot\;Sporting Casual.&quot\;<br />\n<br />\nYou can still purchase tickets and tables by contacting Bridget at 913-748-2303 or bridget@kckchamber.com.
LOCATION:Reardon Convention Center 500 Minnesota Avenue Kansas City\, Kan.
UID:e.1213.62
SEQUENCE:3
DTSTAMP:20260425T002815Z
URL:https://business.kckchamber.com/events/details/annual-meeting-04-11-2013-62
END:VEVENT

END:VCALENDAR
