BEGIN:VCALENDAR
VERSION:2.0
PRODID:-//ChamberMaster//Event Calendar 2.0//EN
METHOD:PUBLISH
X-PUBLISHED-TTL:P3D
REFRESH-INTERVAL:P3D
CALSCALE:GREGORIAN
BEGIN:VEVENT
DTSTART:20140307T173000Z
DTEND:20140307T190000Z
X-MICROSOFT-CDO-ALLDAYEVENT:FALSE
SUMMARY:Annual Meeting 2014
DESCRIPTION:Please join us March 7 for KCK Area Chamber 2014 Annual Meeting!\n\n\n\nGuest Speaker:\n\nBill Graves\n\nPresident & CEO\, American Trucking Associations\n\nFormer Kansas Governor\n\n\n\nMenu: Braised beef\, tri-colored potatoes\, honey glazed carrots and dessert.\n\n\n\nIf you have special dietary needs or want a Vegetarian or Lenten option meal\, please contact Bridget\, 913-748-2303 or bridget@kckchamber.com
X-ALT-DESC;FMTTYPE=text/html:Please join us March 7 for&nbsp\;KCK Area Chamber 2014 Annual Meeting!<br />\n<br />\n<strong>Guest Speaker:</strong><br />\nBill Graves<br />\nPresident &amp\; CEO\, American Trucking Associations<br />\nFormer Kansas Governor<br />\n<br />\nMenu: Braised beef\, tri-colored potatoes\, honey glazed carrots and dessert.<br />\n<br />\nIf you have special dietary needs or want a Vegetarian or Lenten option meal\, please contact Bridget\, 913-748-2303 or <a href="mailto:bridget@kckchamber.com">bridget@kckchamber.com</a>
LOCATION:Reardon Convention Center Kansas City\, Kansas
UID:e.1213.120
SEQUENCE:3
DTSTAMP:20260424T072144Z
URL:https://business.kckchamber.com/events/details/annual-meeting-2014-03-07-2014-120
END:VEVENT

END:VCALENDAR
