BEGIN:VCALENDAR
VERSION:2.0
PRODID:-//ChamberMaster//Event Calendar 2.0//EN
METHOD:PUBLISH
X-PUBLISHED-TTL:P3D
REFRESH-INTERVAL:P3D
CALSCALE:GREGORIAN
BEGIN:VEVENT
DTSTART:20120119T230000Z
DTEND:20120120T010000Z
X-MICROSOFT-CDO-ALLDAYEVENT:FALSE
SUMMARY:Business After Hours
DESCRIPTION:Join the KCK Chamber and Granite City Brewery for an evening of food\, drinks\, and great networking opportunities. This event is free and open to the public.
X-ALT-DESC;FMTTYPE=text/html:Join the KCK&nbsp\;Chamber and Granite City Brewery for an evening of food\, drinks\, and great networking opportunities.&nbsp\;This event is free and open to the public.
LOCATION:1701 Village West Parkway Kansas City\, KS 66111
UID:e.1213.19
SEQUENCE:3
DTSTAMP:20260425T233032Z
URL:https://business.kckchamber.com/events/details/business-after-hours-01-19-2012-19
END:VEVENT

END:VCALENDAR
