BEGIN:VCALENDAR
VERSION:2.0
PRODID:-//ChamberMaster//Event Calendar 2.0//EN
METHOD:PUBLISH
X-PUBLISHED-TTL:P3D
REFRESH-INTERVAL:P3D
CALSCALE:GREGORIAN
BEGIN:VEVENT
DTSTART:20120216T230000Z
DTEND:20120217T010000Z
X-MICROSOFT-CDO-ALLDAYEVENT:FALSE
SUMMARY:Business After Hours
DESCRIPTION:Join the KCK Chamber and the Legends 14 Theatres for an evening of food\, drinks\, and great networking opportunities. This event is free and open to the public.
X-ALT-DESC;FMTTYPE=text/html:Join the KCK&nbsp\;Chamber and the <a href="http://www.phoenixtheatres.com">Legends 14 Theatres </a>for an evening of food\, drinks\, and great networking opportunities.&nbsp\;This event is free and open to the public.
LOCATION:1841 Village West Parkway Kansas City\, KS 66111
UID:e.1213.26
SEQUENCE:3
DTSTAMP:20260425T214241Z
URL:https://business.kckchamber.com/events/details/business-after-hours-02-16-2012-26
END:VEVENT

END:VCALENDAR
