BEGIN:VCALENDAR
VERSION:2.0
PRODID:-//ChamberMaster//Event Calendar 2.0//EN
METHOD:PUBLISH
X-PUBLISHED-TTL:P3D
REFRESH-INTERVAL:P3D
CALSCALE:GREGORIAN
BEGIN:VEVENT
DTSTART:20140326T220000Z
DTEND:20140327T000000Z
X-MICROSOFT-CDO-ALLDAYEVENT:FALSE
SUMMARY:Business After Hours
DESCRIPTION:Business After Hours
X-ALT-DESC;FMTTYPE=text/html:Business After Hours
LOCATION:Judi's Bakery 11006 Parallel Parkway Kansas City\, KS 66109
UID:e.1213.149
SEQUENCE:3
DTSTAMP:20260424T071428Z
URL:https://business.kckchamber.com/events/details/business-after-hours-03-26-2014-149
END:VEVENT

END:VCALENDAR
