BEGIN:VCALENDAR
VERSION:2.0
PRODID:-//ChamberMaster//Event Calendar 2.0//EN
METHOD:PUBLISH
X-PUBLISHED-TTL:P3D
REFRESH-INTERVAL:P3D
CALSCALE:GREGORIAN
BEGIN:VEVENT
DTSTART:20120419T220000Z
DTEND:20120420T000000Z
X-MICROSOFT-CDO-ALLDAYEVENT:FALSE
SUMMARY:Business After Hours
DESCRIPTION:Join the KCK Chamber and McAnany Van Cleave and Phillips for an evening of food\, drinks\, and great networking opportunities. This event is free and open to the public.
X-ALT-DESC;FMTTYPE=text/html:Join the KCK&nbsp\;Chamber and McAnany Van Cleave and Phillips for an evening of food\, drinks\, and great networking opportunities.&nbsp\;This event is free and open to the public.
LOCATION:10 E Cambridge Circle Drive Suite 300 Kansas City\, KS 66103
UID:e.1213.22
SEQUENCE:3
DTSTAMP:20260425T184157Z
URL:https://business.kckchamber.com/events/details/business-after-hours-04-19-2012-22
END:VEVENT

END:VCALENDAR
