BEGIN:VCALENDAR
VERSION:2.0
PRODID:-//ChamberMaster//Event Calendar 2.0//EN
METHOD:PUBLISH
X-PUBLISHED-TTL:P3D
REFRESH-INTERVAL:P3D
CALSCALE:GREGORIAN
BEGIN:VEVENT
DTSTART:20120517T220000Z
DTEND:20120518T000000Z
X-MICROSOFT-CDO-ALLDAYEVENT:FALSE
SUMMARY:Business After Hours
DESCRIPTION:Join the KCK Chamber and Great Wolf Lodge for an evening of food\, drinks\, and great networking opportunities. This event is free and open to the public.
X-ALT-DESC;FMTTYPE=text/html:Join the KCK&nbsp\;Chamber and Great Wolf Lodge for an evening of food\, drinks\, and great networking opportunities.&nbsp\;This event is free and open to the public.
LOCATION:10401 Cabela Drive Kansas City\, KS 66111
UID:e.1213.35
SEQUENCE:3
DTSTAMP:20260425T164810Z
URL:https://business.kckchamber.com/events/details/business-after-hours-05-17-2012-35
END:VEVENT

END:VCALENDAR
