BEGIN:VCALENDAR
VERSION:2.0
PRODID:-//ChamberMaster//Event Calendar 2.0//EN
METHOD:PUBLISH
X-PUBLISHED-TTL:P3D
REFRESH-INTERVAL:P3D
CALSCALE:GREGORIAN
BEGIN:VEVENT
DTSTART:20120719T220000Z
DTEND:20120720T000000Z
X-MICROSOFT-CDO-ALLDAYEVENT:FALSE
SUMMARY:Business After Hours
DESCRIPTION:Join the KCK Chamber and Kansas City Testing and Engineering for an evening of food\, drinks\, and great networking opportunities and check out their new offices. This event is free and open to the public.
X-ALT-DESC;FMTTYPE=text/html:Join the KCK&nbsp\;Chamber and Kansas City Testing and Engineering for an evening of food\, drinks\, and great networking opportunities and check out their new offices.&nbsp\;This event is free and open to the public.
LOCATION:1308 Adams Street Kansas City\, KS 66103
UID:e.1213.27
SEQUENCE:3
DTSTAMP:20260425T151100Z
URL:https://business.kckchamber.com/events/details/business-after-hours-07-19-2012-27
END:VEVENT

END:VCALENDAR
