BEGIN:VCALENDAR
VERSION:2.0
PRODID:-//ChamberMaster//Event Calendar 2.0//EN
METHOD:PUBLISH
X-PUBLISHED-TTL:P3D
REFRESH-INTERVAL:P3D
CALSCALE:GREGORIAN
BEGIN:VEVENT
DTSTART:20120815T220000Z
DTEND:20120816T000000Z
X-MICROSOFT-CDO-ALLDAYEVENT:FALSE
SUMMARY:Business After Hours
DESCRIPTION:Our August Business After Hours is a joint event between The Shepherd's Center of KCK  and Wheat State Pizza.  The event is FREE and is a great opportunity to network with Chamber members and learn about The Shepherd's Center as well as check out the great pizza at Wheat State Pizza.  Join us!
X-ALT-DESC;FMTTYPE=text/html:Our August Business After Hours is a joint event between The Shepherd&#39\;s Center of KCK&nbsp\; and Wheat State Pizza. &nbsp\;The event is FREE and is a great opportunity to network with Chamber members and learn about The Shepherd&#39\;s Center as well as check out the great pizza at Wheat State Pizza. &nbsp\;Join us! &nbsp\; &nbsp\; &nbsp\; &nbsp\; &nbsp\; &nbsp\;
LOCATION:Wheat State Pizza 2820 W. 47th Street Kansas City\, KS 66103
UID:e.1213.40
SEQUENCE:3
DTSTAMP:20260425T115448Z
URL:https://business.kckchamber.com/events/details/business-after-hours-08-15-2012-40
END:VEVENT

END:VCALENDAR
