BEGIN:VCALENDAR
VERSION:2.0
PRODID:-//ChamberMaster//Event Calendar 2.0//EN
METHOD:PUBLISH
X-PUBLISHED-TTL:P3D
REFRESH-INTERVAL:P3D
CALSCALE:GREGORIAN
BEGIN:VEVENT
DTSTART:20120920T220000Z
DTEND:20120921T000000Z
X-MICROSOFT-CDO-ALLDAYEVENT:FALSE
SUMMARY:Business After Hours
DESCRIPTION:Join the KCK Chamber and The Athletic Zone for an evening of food\, drinks\, and great networking opportunities and check out their new indoor soccer facility. This event is free and open to the public.
X-ALT-DESC;FMTTYPE=text/html:Join the KCK&nbsp\;Chamber and The Athletic Zone for an evening of food\, drinks\, and great networking opportunities and check out their new indoor soccer facility.&nbsp\;This event is free and open to the public.
LOCATION:1017 N. 9th Street Kansas City\, KS 66101
UID:e.1213.30
SEQUENCE:3
DTSTAMP:20260425T102141Z
URL:https://business.kckchamber.com/events/details/business-after-hours-09-20-2012-30
END:VEVENT

END:VCALENDAR
