BEGIN:VCALENDAR
VERSION:2.0
PRODID:-//ChamberMaster//Event Calendar 2.0//EN
METHOD:PUBLISH
X-PUBLISHED-TTL:P3D
REFRESH-INTERVAL:P3D
CALSCALE:GREGORIAN
BEGIN:VEVENT
DTSTART:20131025T220000Z
DTEND:20131026T000000Z
X-MICROSOFT-CDO-ALLDAYEVENT:FALSE
SUMMARY:Business After Hours
DESCRIPTION:Join us for Business After Hours at Due West Therapeutic Riding Center. Due West Therapeutic Riding Center is the first program of its kind in Wyandotte County\, serving children and adults with disabilities and other therapeutic needs. The therapeutic riding program forms a connection between horse and rider that improves overall well being. In addition to a quality therapeutic riding program\, Due West provides a beautiful setting that serves as a respite for our clients and their families. Come visit Due West for tours of the facility\, a demonstration of therapeutic riding\, snacks\, alcoholic and non-alcoholic beverages and a bonfire. We look forward to hosting you for a peaceful evening on our 80 acres!
X-ALT-DESC;FMTTYPE=text/html:<span style="font-size: 16px"><span style="font-family: times new roman">Join us for Business After Hours&nbsp\;at Due West Therapeutic Riding Center. Due West Therapeutic Riding Center is the first program of its kind in Wyandotte County\, serving children and adults with disabilities and other therapeutic needs. The therapeutic riding program forms a connection between horse and rider that improves overall well being. In addition to a quality therapeutic riding program\, Due West provides a beautiful setting that serves as a respite for our clients and their families. Come visit&nbsp\;Due West for tours of the facility\, a demonstration of therapeutic riding\, snacks\, <span style="font-size: 12pt"><span style="font-family: times new roman\, serif">alcoholic&nbsp\;and non-alcoholic beverages </span></span>and a bonfire. We look forward to hosting you for a peaceful evening on our 80 acres!</span></span><br />\n
LOCATION:Due West Therapeutic Riding Center 12001 Donahoo Road Kansas City\, Kansas
UID:e.1213.87
SEQUENCE:3
DTSTAMP:20260424T142113Z
URL:https://business.kckchamber.com/events/details/business-after-hours-10-25-2013-87
END:VEVENT

END:VCALENDAR
